BEGIN:VCALENDAR
VERSION:2.0
PRODID:-//Captain Quack&#039;s Soundspace - ECPv6.15.20//NONSGML v1.0//EN
CALSCALE:GREGORIAN
METHOD:PUBLISH
X-WR-CALNAME:Captain Quack&#039;s Soundspace
X-ORIGINAL-URL:https://soundspaceatx.com
X-WR-CALDESC:Events for Captain Quack&#039;s Soundspace
REFRESH-INTERVAL;VALUE=DURATION:PT1H
X-Robots-Tag:noindex
X-PUBLISHED-TTL:PT1H
BEGIN:VTIMEZONE
TZID:Africa/Abidjan
BEGIN:STANDARD
TZOFFSETFROM:+0000
TZOFFSETTO:+0000
TZNAME:GMT
DTSTART:20250101T000000
END:STANDARD
END:VTIMEZONE
BEGIN:VEVENT
DTSTART;TZID=Africa/Abidjan:20260422T190000
DTEND;TZID=Africa/Abidjan:20260422T210000
DTSTAMP:20260421T041334
CREATED:20260319T163646Z
LAST-MODIFIED:20260319T163646Z
UID:2268-1776884400-1776891600@soundspaceatx.com
SUMMARY:Jason McIntyre and Michael O' Connor
DESCRIPTION:Join us for an evening with Jason McIntyre and Michael O’ Connor\n\n\nMichael O’Connor & Jason McIntyre return from the road swapping stories and song. Accompanying one another on acoustic guitar and mandolin. \nDoors 6pm \nShow 7pm \n 
URL:https://soundspaceatx.com/event/jason-mcintyre-and-michael-o-connor/
LOCATION:Captain Quack’s Soundspace\, 5326 Menchaca Road\, Austin\, TX 78745\, Austin\, TX\, 78745\, US
ATTACH;FMTTYPE=image/jpeg:https://soundspaceatx.com/wp-content/uploads/2026/03/2268_image.jpg
END:VEVENT
BEGIN:VEVENT
DTSTART;TZID=Africa/Abidjan:20260423T190000
DTEND;TZID=Africa/Abidjan:20260423T210000
DTSTAMP:20260421T041334
CREATED:20260318T142337Z
LAST-MODIFIED:20260318T142337Z
UID:2254-1776970800-1776978000@soundspaceatx.com
SUMMARY:B-Side Quartet
DESCRIPTION:Join us for an evening with B- Side Quartet\n\n\nDoors 6:30 pm \nShow 7 pm
URL:https://soundspaceatx.com/event/b-side-quartet/
LOCATION:Captain Quack’s Soundspace\, 5326 Menchaca Road\, Austin\, TX 78745\, Austin\, TX\, 78745\, US
ATTACH;FMTTYPE=image/jpeg:https://soundspaceatx.com/wp-content/uploads/2026/03/2254_image.jpg
END:VEVENT
BEGIN:VEVENT
DTSTART;TZID=Africa/Abidjan:20260426T110000
DTEND;TZID=Africa/Abidjan:20260426T130000
DTSTAMP:20260421T041334
CREATED:20260402T195601Z
LAST-MODIFIED:20260402T195601Z
UID:2302-1777201200-1777208400@soundspaceatx.com
SUMMARY:She Writes Songs - Free Music
DESCRIPTION:Join us for an afternoon of free music!\n\n\nShe Writes Songs is a curated\, all-women songwriter round celebrating storytelling through music. Hosted by Austin-based singer-songwriter Sidney Kenley\, this series brings together some of our favorite female artists in the scene to share original songs\, the stories behind them\, and the moments that shaped them. \nWe’ll be hanging in the cozy listening room at Captain Quack’s Soundspace. Get ready for stripped-down\, honest\, really good music and voices that deserve to be heard. \nWhether you’re a songwriter\, a music lover\, or just looking for a fun way to spend your Sunday morning\, this is a space to slow down\, connect\, and be part of something special. \n✨ Sundays: April 26\, May 24\, June 28\n📍 Soundspace at Captain Quack’s\n⏰ 11am – 1pm \n💛 Free to attend (tips for artists encouraged)
URL:https://soundspaceatx.com/event/she-writes-songs-free-music/
LOCATION:Captain Quack’s Soundspace\, 5326 Menchaca Road\, Austin\, TX 78745\, Austin\, TX\, 78745\, US
ATTACH;FMTTYPE=image/jpeg:https://soundspaceatx.com/wp-content/uploads/2026/04/2302_image.jpg
END:VEVENT
BEGIN:VEVENT
DTSTART;TZID=Africa/Abidjan:20260429T190000
DTEND;TZID=Africa/Abidjan:20260429T210000
DTSTAMP:20260421T041334
CREATED:20260319T163657Z
LAST-MODIFIED:20260319T163657Z
UID:2271-1777489200-1777496400@soundspaceatx.com
SUMMARY:Shawnee Kilgore's Wonder What Wednesdays
DESCRIPTION:Shawnee Kilgore and Susan Gibson\n\n\nShawnee Kilgore’s Wonder What Wednesdays began in July 2018 as a challenge to play only original songs for a month of Wednesdays without repeating or playing anything from her then 5 studio albums. She introduced Let That Songbird Bingo (a spin on her musical motto/ethos Let That Songbird Go) and a guest each night to swap songs and each play a surprise cover of the other artist. \nThere have now been 46 WWW shows at 5 different venues and Shawnee has played 386 original songs. If you’ve heard it on a Wednesday you’ll never hear it at another one! Come see what’s left in the vault and welcome Susan to the WWW fam. \nSusan Gibson is a Wimberley\, Texas-based singer-songwriter\, former lead singer of the alternative country band The Groobees and writer of the Dixie Chicks hit “Wide Open Spaces.” \nDoors 6:30 \nShow 7pm
URL:https://soundspaceatx.com/event/shawnee-kilgores-wonder-what-wednesdays-2/
LOCATION:Captain Quack’s Soundspace\, 5326 Menchaca Road\, Austin\, TX 78745\, Austin\, TX\, 78745\, US
ATTACH;FMTTYPE=image/png:https://soundspaceatx.com/wp-content/uploads/2026/03/2271_image.png
END:VEVENT
BEGIN:VEVENT
DTSTART;TZID=Africa/Abidjan:20260430T190000
DTEND;TZID=Africa/Abidjan:20260430T203000
DTSTAMP:20260421T041334
CREATED:20260402T195524Z
LAST-MODIFIED:20260408T234428Z
UID:2299-1777575600-1777581000@soundspaceatx.com
SUMMARY:Quackin' Jokes: A Southside Standup Comedy Show
DESCRIPTION:A standup comedy showcase at Captain Quackenbush’s Coffeehouse! Doors at 6:30PM/ show at 7:00PM\n\n\nSpend your Thursday night with us enjoying a hilarious line-up of some of Austin’s best comedians\, paired with delicious cocktails\, coffee\, and our tasty treats! Come out! \nDoors at 6:30\, show at 7:00 \nHosted by Katie Felton & Austen Silver \n 
URL:https://soundspaceatx.com/event/quackin-jokes-a-southside-standup-comedy-show/
LOCATION:Captain Quack’s Soundspace\, 5326 Menchaca Road\, Austin\, TX 78745\, Austin\, TX\, 78745\, US
ATTACH;FMTTYPE=image/png:https://soundspaceatx.com/wp-content/uploads/2026/04/2299_image.png
END:VEVENT
END:VCALENDAR